BEGIN:VCALENDAR
PRODID:-//eluceo/ical//2.0/EN
VERSION:2.0
CALSCALE:GREGORIAN
BEGIN:VEVENT
UID:4efacc4d58b363e6fe227ddfb6b41fdb
DTSTAMP:20260422T150941Z
SUMMARY:Réunion Statutaire 2105
DESCRIPTION:
URL:https://mons-bruyeres-jurbise.rotary2150.org/nl/agenda/show/96512
DTSTART;TZID=Europe/Zurich:20260402T193000
DTEND;TZID=Europe/Zurich:20260402T213000
LOCATION:Restaurant l'Effet Boeuf\, Route d'Ath 119\, 7020 Nimy\, Belgique
CATEGORIES:Rotary
END:VEVENT
BEGIN:VTIMEZONE
TZID:Europe/Zurich
BEGIN:DAYLIGHT
DTSTART:20260402T193000
TZNAME:CEST
TZOFFSETTO:+0200
TZOFFSETFROM:+0200
END:DAYLIGHT
END:VTIMEZONE
END:VCALENDAR
