BEGIN:VCALENDAR
PRODID:-//eluceo/ical//2.0/EN
VERSION:2.0
CALSCALE:GREGORIAN
BEGIN:VEVENT
UID:766151164a32fedd65c80d5e665bf31b
DTSTAMP:20260421T112356Z
SUMMARY:Bezoek president Rotary International
DESCRIPTION:Website: https://rotary2130.org/nl/agenda/show/96050\nSprekers:
  Op maandag 16 maart brengt onze RI-president Francesco Arezzo een bezoek 
 aan Ieper\, waar hij tijdens de plechtige Last Post-ceremonie onder de Men
 enpoort een krans zal neerleggen ter nagedachtenis van de gesneuvelden.De 
 Last Post wordt sinds 1928 elke avond geblazen onder de Menenpoort\, als e
 erbetoon aan de meer dan 54.000 vermiste soldaten van het Gemenebest die t
 ijdens de Eerste Wereldoorlog vielen in de regio van Ieper. Wat begon als 
 een eenvoudig eerbetoon door de klaroenblazers van de Ieperse brandweer gr
 oeide uit tot een indrukwekkende en internationaal gerespecteerde traditie
  van herinnering\, die tot op vandaag – weer of geen weer – ononderbro
 ken wordt voortgezet.Het zou voor ons een bijzondere eer zijn u en/of een 
 afvaardiging van uw club te mogen verwelkomen bij deze ingetogen en beteke
 nisvolle plechtigheid.Wij verzamelen stipt om 19.15 uur onder de Menenpoor
 t.Aansluitend nodigen wij u van harte uit om samen met onze RI-president d
 eel te nemen aan een diner\, dat plaatsvindt in de banketzaal Yperley\, ge
 legen in de Sint-Jacobsstraat 1\, aan de Markt in Ieper. Dit biedt u teven
 s de gelegenheid om\, indien u dat wenst\, persoonlijk met Francesco Arezz
 o in gesprek te gaan. De kostprijs voor dit diner bedraagt € 80\,00 per 
 persoon. Inschrijven via Polaris. Het aantal beschikbare plaatsen is beper
 kt\, dus wees er tijdig bij: first come\, first served!Vooraf is er om 17h
  de mogelijkheid om ook samen het Hooge Crater Cemetery  te bezoeken ( Mee
 nseweg 467   8902 Ieper)
URL:https://ieper.rotary2130.org/nl/agenda/show/96312
DTSTART;TZID=Europe/Zurich:20260316T170000
DTEND;TZID=Europe/Zurich:20260316T220000
LOCATION:Hooge Crater Cemetery - Menenpoort -banketzaal Yperley\,
CATEGORIES:Rotary
END:VEVENT
BEGIN:VTIMEZONE
TZID:Europe/Zurich
BEGIN:STANDARD
DTSTART:20260316T170000
TZNAME:CET
TZOFFSETTO:+0100
TZOFFSETFROM:+0100
END:STANDARD
END:VTIMEZONE
END:VCALENDAR
