BEGIN:VCALENDAR
PRODID:-//eluceo/ical//2.0/EN
VERSION:2.0
CALSCALE:GREGORIAN
BEGIN:VEVENT
UID:1e2538b158a144e0a1dad5803705277d
DTSTAMP:20260422T113711Z
SUMMARY:Fundraising: Sinfonia della gioventù
DESCRIPTION:Sprekers: Dit is een concert door het orkest Jowest OLV Dirk Li
 evens ten voordele van "The collection of Belgian instruments". Rotary Oos
 tende Ter streep verdubbelt de opbrengst van elke ticket!Ticket: 25€ Be
 stellen: uitinoostende.be Allen van harte welkom!
URL:https://oostende-ter-streep.rotary2130.org/nl/agenda/show/96124
DTSTART;TZID=Europe/Zurich:20260319T230000
DTEND;TZID=Europe/Zurich:20260319T230000
LOCATION:Sint-Petrus en Pauluskerke Oostende
CATEGORIES:Rotary
END:VEVENT
BEGIN:VTIMEZONE
TZID:Europe/Zurich
BEGIN:STANDARD
DTSTART:20260319T230000
TZNAME:CET
TZOFFSETTO:+0100
TZOFFSETFROM:+0100
END:STANDARD
END:VTIMEZONE
END:VCALENDAR
