BEGIN:VCALENDAR
PRODID:-//eluceo/ical//2.0/EN
VERSION:2.0
CALSCALE:GREGORIAN
BEGIN:VEVENT
UID:86008f9a775dea3d96385dfe626ca158
DTSTAMP:20260422T090809Z
SUMMARY:Rotary Talk: PDG Bart Purnal - de echte gevolgen van de politiek va
 n Trump voor Europa
DESCRIPTION:Website: http://aulnenhof.be\nSprekers: Bart Purnal\, Past Gouv
 erneur District 2140 (2021-2022)Bart is een ervaren senior manager\, strat
 egisch communicatieadviseur en consultant met een brede achtergrond in bed
 rijfsleiding\, defensie\, rechtspraak en internationale mentoring. Combina
 tie van commerciële slagkracht\, strategisch inzicht en maatschappelijke 
 betrokkenheid. Meertalig en analytisch sterk\, met ruime ervaring in leidi
 nggevende functies binnen zowel private als publieke sector.  Profession
 ele ervaring\nZelfstandig Business Consultant2015 – heden\n\nStrategisch
  advies aan bedrijven in management\, communicatie en organisatieontwikkel
 ing\n\n\nBegeleiding van change- en herstructureringstrajecten\n\n\nExecut
 ive mentoring en board advisory\n\nBelgische Defensie – Kolonel (reserve
 )Belgische Defensie\n\nStrategische communicatie en informatie-operaties\n
 \n\nAdvisering op hoog niveau inzake crisiscommunicatie\n\n\nInternational
 e samenwerking en opleiding\n\nLekenrechter / Rechter-commissarisNederland
 stalige Ondernemingsrechtbank Brussel\n\nBehandeling van ondernemingsgesch
 illen\n\n\nFaillissementsdossiers en toezicht op curatoren\n\n\nJuridische
  besluitvorming binnen economisch recht\n\nManaging Director & Network Dev
 elopment ManagerFiat Group Automobiles Belgium\n2008 – 2015\n\nAlgemene 
 leiding van de Belgische organisatie\n\n\nNetwerkontwikkeling en dealerstr
 ategie\n\n\nCommerciële strategie en operationeel management\n\nOperation
 s & Fleet ManagerHertz Belgium & Luxembourg\n±1990 – 2007\n\nOperatione
 le verantwoordelijkheid voor wagenparkbeheer\n\n\nProcesoptimalisatie en k
 ostenbeheersing\n\n\nTeamleiding en commerciële ondersteuning\n\nSales Ma
 nagerAllied Arthur Pierre\n1984 – 1990\n\nBusiness development en klante
 nbeheer\n\n\nUitbouw van commerciële netwerken\n\nInternationale & maatsc
 happelijke engagementen\nSenior Mentor – NATO School (Strategische Commu
 nicatie)\nNATO School OberammergauBestuursfuncties binnen Rotary Internati
 onal\nRotary International\n\n\n\nO.a. District Governor
URL:https://landen.rotary2140.org/nl/agenda/show/95758
DTSTART;TZID=Europe/Zurich:20260402T194500
DTEND;TZID=Europe/Zurich:20260402T224500
LOCATION:Hostellerie AULNENHOF\, Walshoutemstraat 74 \, 3401 LANDEN-WALSHOU
 TEM
CATEGORIES:Rotary
END:VEVENT
BEGIN:VTIMEZONE
TZID:Europe/Zurich
BEGIN:DAYLIGHT
DTSTART:20260402T194500
TZNAME:CEST
TZOFFSETTO:+0200
TZOFFSETFROM:+0200
END:DAYLIGHT
END:VTIMEZONE
END:VCALENDAR
