BEGIN:VCALENDAR
PRODID:-//eluceo/ical//2.0/EN
VERSION:2.0
CALSCALE:GREGORIAN
BEGIN:VEVENT
UID:655fe20f9d694cc702d0698bfa6cbded
DTSTAMP:20260422T150551Z
SUMMARY:Réunion Statutaire 2103
DESCRIPTION:
URL:https://mons-bruyeres-jurbise.rotary2150.org/nl/agenda/show/94973
DTSTART;TZID=Europe/Zurich:20260312T193000
DTEND;TZID=Europe/Zurich:20260312T193000
LOCATION:Restaurant l'Effet Boeuf\, Route d'Ath 119\, 7020 Nimy\, Belgique
CATEGORIES:Rotary
END:VEVENT
BEGIN:VTIMEZONE
TZID:Europe/Zurich
BEGIN:STANDARD
DTSTART:20260312T193000
TZNAME:CET
TZOFFSETTO:+0100
TZOFFSETFROM:+0100
END:STANDARD
END:VTIMEZONE
END:VCALENDAR
