BEGIN:VCALENDAR
PRODID:-//eluceo/ical//2.0/EN
VERSION:2.0
CALSCALE:GREGORIAN
BEGIN:VEVENT
UID:da9f1d886306e196be72d56e36af2805
DTSTAMP:20260422T165031Z
SUMMARY:Réunion Statutaire 2102 - Partner's Night - Conférence de Nicolas
  Willame - "Création et développement d'une jeune maison d'édition mont
 oise"
DESCRIPTION:
URL:https://mons-bruyeres-jurbise.rotary2150.org/nl/agenda/show/94972
DTSTART;TZID=Europe/Zurich:20260305T193000
DTEND;TZID=Europe/Zurich:20260305T213000
LOCATION:Restaurant l'Effet Boeuf\, Route d'Ath 119\, 7020 Nimy\, Belgique
CATEGORIES:Rotary
END:VEVENT
BEGIN:VTIMEZONE
TZID:Europe/Zurich
BEGIN:STANDARD
DTSTART:20260305T193000
TZNAME:CET
TZOFFSETTO:+0100
TZOFFSETFROM:+0100
END:STANDARD
END:VTIMEZONE
END:VCALENDAR
