BEGIN:VCALENDAR
PRODID:-//eluceo/ical//2.0/EN
VERSION:2.0
CALSCALE:GREGORIAN
BEGIN:VEVENT
UID:cf4c9737e3d0edc0a1d7350f66356726
DTSTAMP:20260423T105323Z
SUMMARY:Statutaire Vergadering - met gastspreker Dr. Luc De Wolf (open verg
 adering)
DESCRIPTION:Website: https://www.kasteelvanlebbeke.be
URL:https://dendermonde.rotary2130.org/nl/agenda/show/94899
DTSTART;TZID=Europe/Zurich:20260223T121500
DTEND;TZID=Europe/Zurich:20260223T140000
LOCATION:Kasteel van Lebbeke\, Leo Duboisstraat 41\, 9280 Lebbeke
CATEGORIES:Rotary
END:VEVENT
BEGIN:VTIMEZONE
TZID:Europe/Zurich
BEGIN:STANDARD
DTSTART:20260223T121500
TZNAME:CET
TZOFFSETTO:+0100
TZOFFSETFROM:+0100
END:STANDARD
END:VTIMEZONE
END:VCALENDAR
