BEGIN:VCALENDAR
PRODID:-//eluceo/ical//2.0/EN
VERSION:2.0
CALSCALE:GREGORIAN
BEGIN:VEVENT
UID:db5d63106fb004ec57b028d29b6f6117
DTSTAMP:20260422T171237Z
SUMMARY:WIRIC klassiek concert
DESCRIPTION:Website: https://www.debogaard.be/contact_debogaard
URL:https://borgloon-haspengouw.rotary2140.org/nl/agenda/show/90464
DTSTART;TZID=Europe/Zurich:20251018T190000
DTEND;TZID=Europe/Zurich:20251018T190000
LOCATION:Academiezaal Sint-Truiden\, Plankstraat 18\, 3800 Sint-Truiden\, B
 elgië
CATEGORIES:Rotary
END:VEVENT
BEGIN:VTIMEZONE
TZID:Europe/Zurich
BEGIN:DAYLIGHT
DTSTART:20251018T190000
TZNAME:CEST
TZOFFSETTO:+0200
TZOFFSETFROM:+0200
END:DAYLIGHT
END:VTIMEZONE
END:VCALENDAR
