BEGIN:VCALENDAR
PRODID:-//eluceo/ical//2.0/EN
VERSION:2.0
CALSCALE:GREGORIAN
BEGIN:VEVENT
UID:6773f9e173dcbccd01e09c36d3eeb420
DTSTAMP:20260421T152027Z
SUMMARY:Fundraising Champagne en oesterverkoop Pop Up
DESCRIPTION:
URL:https://koksijde-depanne-veurne.rotary2130.org/nl/agenda/show/90435
DTSTART;TZID=Europe/Zurich:20251227T103000
DTEND;TZID=Europe/Zurich:20251227T193000
LOCATION:Markt De Panne
CATEGORIES:Rotary
END:VEVENT
BEGIN:VTIMEZONE
TZID:Europe/Zurich
BEGIN:STANDARD
DTSTART:20251227T103000
TZNAME:CET
TZOFFSETTO:+0100
TZOFFSETFROM:+0100
END:STANDARD
END:VTIMEZONE
END:VCALENDAR
