BEGIN:VCALENDAR
PRODID:-//eluceo/ical//2.0/EN
VERSION:2.0
CALSCALE:GREGORIAN
BEGIN:VEVENT
UID:af5f2e99cd8f3353cf7673af812a03a0
DTSTAMP:20260422T185043Z
SUMMARY:Rotarally 2025 (27&28 september 2025)
DESCRIPTION:Website: http://fonteinhof.be
URL:https://borgloon-haspengouw.rotary2140.org/nl/agenda/show/88758
DTSTART;TZID=Europe/Zurich:20250927T080000
DTEND;TZID=Europe/Zurich:20250928T220000
LOCATION:Fonteinhof\, Fonteinhof 1\, 3840 Borgloon\, België
CATEGORIES:Rotary
END:VEVENT
BEGIN:VTIMEZONE
TZID:Europe/Zurich
BEGIN:DAYLIGHT
DTSTART:20250927T080000
TZNAME:CEST
TZOFFSETTO:+0200
TZOFFSETFROM:+0200
END:DAYLIGHT
END:VTIMEZONE
END:VCALENDAR
