BEGIN:VCALENDAR
PRODID:-//eluceo/ical//2.0/EN
VERSION:2.0
CALSCALE:GREGORIAN
BEGIN:VEVENT
UID:42022edd265d71787f6411f668aa4d74
DTSTAMP:20260423T215350Z
SUMMARY:Zomervergadering Genoelselderen
DESCRIPTION:Website: http://www.wijnkasteel.com/Frameset/nl_frameset1024.ht
 ml
URL:https://antwerp-international.rotary2140.org/nl/agenda/show/59552
DTSTART;TZID=Europe/Zurich:20230726T190000
DTEND;TZID=Europe/Zurich:20230726T220000
LOCATION:Kasteelstraat 9\, 3770 Riemst.
CATEGORIES:Rotary
END:VEVENT
BEGIN:VTIMEZONE
TZID:Europe/Zurich
BEGIN:DAYLIGHT
DTSTART:20230726T190000
TZNAME:CEST
TZOFFSETTO:+0200
TZOFFSETFROM:+0200
END:DAYLIGHT
END:VTIMEZONE
END:VCALENDAR
