BEGIN:VCALENDAR
PRODID:-//eluceo/ical//2.0/EN
VERSION:2.0
CALSCALE:GREGORIAN
BEGIN:VEVENT
UID:c9cd4ac9118450a5758b1fae8e1d77bb
DTSTAMP:20260423T200106Z
SUMMARY:Zomervergadering Vigna
DESCRIPTION:Website: https://vignawijn.be/
URL:https://antwerp-international.rotary2140.org/nl/agenda/show/59551
DTSTART;TZID=Europe/Zurich:20230706T190000
DTEND;TZID=Europe/Zurich:20230706T220000
LOCATION:Gravenwezelsteenweg 39/hoek Groenstraat\, 2110 Wijnegem.
CATEGORIES:Rotary
END:VEVENT
BEGIN:VTIMEZONE
TZID:Europe/Zurich
BEGIN:DAYLIGHT
DTSTART:20230706T190000
TZNAME:CEST
TZOFFSETTO:+0200
TZOFFSETFROM:+0200
END:DAYLIGHT
END:VTIMEZONE
END:VCALENDAR
