BEGIN:VCALENDAR
PRODID:-//eluceo/ical//2.0/EN
VERSION:2.0
CALSCALE:GREGORIAN
BEGIN:VEVENT
UID:7d15d457a8e661f207d90123e4b92296
DTSTAMP:20260423T181338Z
SUMMARY:The Little Mermaid
DESCRIPTION:Website: https://heh-eet.be/nl/home-nl-2023/
URL:https://antwerp-international.rotary2140.org/nl/agenda/show/59121
DTSTART;TZID=Europe/Zurich:20230528T100000
DTEND;TZID=Europe/Zurich:20230528T120000
LOCATION:Kinepolis Antwerpen\, Groenendaallaan 394\, 2030 Antwerpen
CATEGORIES:Rotary
END:VEVENT
BEGIN:VTIMEZONE
TZID:Europe/Zurich
BEGIN:DAYLIGHT
DTSTART:20230528T100000
TZNAME:CEST
TZOFFSETTO:+0200
TZOFFSETFROM:+0200
END:DAYLIGHT
END:VTIMEZONE
END:VCALENDAR
