BEGIN:VCALENDAR
PRODID:-//eluceo/ical//2.0/EN
VERSION:2.0
CALSCALE:GREGORIAN
BEGIN:VEVENT
UID:f0f844da80dbc504f465221f9e03fc41
DTSTAMP:20260422T085456Z
SUMMARY:Réunion avec repas - Partner Night
DESCRIPTION:Sprekers: Pauline Tsanga
URL:https://bastogne.rotary2160.org/nl/agenda/show/54263
DTSTART;TZID=Europe/Zurich:20230124T193000
DTEND;TZID=Europe/Zurich:20230124T230000
LOCATION:Restaurant LE CHALET ROYAL\, Marenwez\, 6600 BASTOGNE
CATEGORIES:Rotary
END:VEVENT
BEGIN:VTIMEZONE
TZID:Europe/Zurich
BEGIN:STANDARD
DTSTART:20230124T193000
TZNAME:CET
TZOFFSETTO:+0100
TZOFFSETFROM:+0100
END:STANDARD
END:VTIMEZONE
END:VCALENDAR
