BEGIN:VCALENDAR
PRODID:-//eluceo/ical//2.0/EN
VERSION:2.0
CALSCALE:GREGORIAN
BEGIN:VEVENT
UID:c03a53300349d2fcb6e2219f0b7b1503
DTSTAMP:20260424T114550Z
SUMMARY:Bezoek van het KMSK met Rotary Duisburg
DESCRIPTION:Website: https://kmska.be/
URL:https://antwerpen.rotary2140.org/nl/agenda/show/51291
DTSTART;TZID=Europe/Zurich:20221112T110000
DTEND;TZID=Europe/Zurich:20221112T110000
LOCATION:Leopold de Waelplaats 2\, 2000 Antwerpen
CATEGORIES:Rotary
END:VEVENT
BEGIN:VTIMEZONE
TZID:Europe/Zurich
BEGIN:STANDARD
DTSTART:20221112T110000
TZNAME:CET
TZOFFSETTO:+0100
TZOFFSETFROM:+0100
END:STANDARD
END:VTIMEZONE
END:VCALENDAR
