BEGIN:VCALENDAR
PRODID:-//eluceo/ical//2.0/EN
VERSION:2.0
CALSCALE:GREGORIAN
BEGIN:VEVENT
UID:ea9100da6f9a266db6ec1714fbed785e
DTSTAMP:20260423T180011Z
SUMMARY:Rotary Antwerpen Beroepsinformatie avond
DESCRIPTION:Website: https://www.rotaryberoepsinfo.be/
URL:https://antwerp-international.rotary2140.org/nl/agenda/show/45983
DTSTART;TZID=Europe/Zurich:20230119T183000
DTEND;TZID=Europe/Zurich:20230119T223000
LOCATION:Universiteit Antwerpen\, Campus Drie Eiken
CATEGORIES:Rotary
END:VEVENT
BEGIN:VTIMEZONE
TZID:Europe/Zurich
BEGIN:STANDARD
DTSTART:20230119T183000
TZNAME:CET
TZOFFSETTO:+0100
TZOFFSETFROM:+0100
END:STANDARD
END:VTIMEZONE
END:VCALENDAR
