BEGIN:VCALENDAR
PRODID:-//eluceo/ical//2.0/EN
VERSION:2.0
CALSCALE:GREGORIAN
BEGIN:VEVENT
UID:6d52e881c6907f8545a96ca72c588666
DTSTAMP:20260423T193918Z
SUMMARY:New Year Reception Antwerp Rotary Clubs
DESCRIPTION:
URL:https://antwerp-international.rotary2140.org/nl/agenda/show/45982
DTSTART;TZID=Europe/Zurich:20230112T190000
DTEND;TZID=Europe/Zurich:20230112T220000
LOCATION:ING\, Lange Gasthuisstraat 20\, Antwerpen
CATEGORIES:Rotary
END:VEVENT
BEGIN:VTIMEZONE
TZID:Europe/Zurich
BEGIN:STANDARD
DTSTART:20230112T190000
TZNAME:CET
TZOFFSETTO:+0100
TZOFFSETFROM:+0100
END:STANDARD
END:VTIMEZONE
END:VCALENDAR
