BEGIN:VCALENDAR
PRODID:-//eluceo/ical//2.0/EN
VERSION:2.0
CALSCALE:GREGORIAN
BEGIN:VEVENT
UID:fbbee5579c9abb81ca367d512092b526
DTSTAMP:20260423T161356Z
SUMMARY:Réunion Statutaire (Le Mosa)
DESCRIPTION:
URL:https://vallee-du-geer.rotary2160.org/fr/agenda/show/94066
DTSTART;TZID=Europe/Zurich:20260408T193000
DTEND;TZID=Europe/Zurich:20260408T220000
LOCATION:Le Mosa\, rue Preixhe\, 19\, 4681 Hermalle-sous-Argenteau
CATEGORIES:Rotary
END:VEVENT
BEGIN:VTIMEZONE
TZID:Europe/Zurich
BEGIN:DAYLIGHT
DTSTART:20260408T193000
TZNAME:CEST
TZOFFSETTO:+0200
TZOFFSETFROM:+0200
END:DAYLIGHT
END:VTIMEZONE
END:VCALENDAR
