BEGIN:VCALENDAR
PRODID:-//eluceo/ical//2.0/EN
VERSION:2.0
CALSCALE:GREGORIAN
BEGIN:VEVENT
UID:328fc3f6ac245cae558762094ed65067
DTSTAMP:20260423T132108Z
SUMMARY:Réunion Statutaire (Le Mosa) - Conférence - "L'Ecole Liégeoise d
 u Paysage" présentée par Michel GALASYKA
DESCRIPTION:
URL:https://vallee-du-geer.rotary2160.org/fr/agenda/show/94064
DTSTART;TZID=Europe/Zurich:20260325T193000
DTEND;TZID=Europe/Zurich:20260325T220000
LOCATION:Le Mosa\, rue Preixhe\, 19\, 4681 Hermalle-sous-Argenteau
CATEGORIES:Rotary
END:VEVENT
BEGIN:VTIMEZONE
TZID:Europe/Zurich
BEGIN:STANDARD
DTSTART:20260325T193000
TZNAME:CET
TZOFFSETTO:+0100
TZOFFSETFROM:+0100
END:STANDARD
END:VTIMEZONE
END:VCALENDAR
