BEGIN:VCALENDAR
PRODID:-//eluceo/ical//2.0/EN
VERSION:2.0
CALSCALE:GREGORIAN
BEGIN:VEVENT
UID:f98d2789cb30fa503e82d93773c57b1a
DTSTAMP:20260421T082652Z
SUMMARY:Réunion Statutaire (LE TREMPLIN) - REPAS YEP
DESCRIPTION:
URL:https://vallee-du-geer.rotary2160.org/fr/agenda/show/94063
DTSTART;TZID=Europe/Zurich:20260318T193000
DTEND;TZID=Europe/Zurich:20260318T193000
LOCATION:Salle "Le Tremplin"\, rue de Hermée 13Z\, 4040 Pontisse\, Belgiqu
 e
CATEGORIES:Rotary
END:VEVENT
BEGIN:VTIMEZONE
TZID:Europe/Zurich
BEGIN:STANDARD
DTSTART:20260318T193000
TZNAME:CET
TZOFFSETTO:+0100
TZOFFSETFROM:+0100
END:STANDARD
END:VTIMEZONE
END:VCALENDAR
