BEGIN:VCALENDAR
PRODID:-//eluceo/ical//2.0/EN
VERSION:2.0
CALSCALE:GREGORIAN
BEGIN:VEVENT
UID:05932f631a79e36ea4b5e3d82dc50ac5
DTSTAMP:20260423T101620Z
SUMMARY:Réunion avec assemblée générale et élection du président pour
  2028 à 2029  et Tirage de la Tombola Polio  à l'UN en réunion apériti
 ve
DESCRIPTION:Site internet: https://fr.restaurantguru.com/Union-Nautique-Lie
 ge\nConférencier(s): Présence Obligatoire 
URL:https://liege-cite-ardente.rotary2160.org/fr/agenda/show/85296
DTSTART;TZID=Europe/Zurich:20251209T183000
DTEND;TZID=Europe/Zurich:20251209T200000
LOCATION:Union Nautique de Liège\, Parc de la Boverie 3\, 4020 LIEGE\, Bel
 gique
CATEGORIES:Rotary
END:VEVENT
BEGIN:VTIMEZONE
TZID:Europe/Zurich
BEGIN:STANDARD
DTSTART:20251209T183000
TZNAME:CET
TZOFFSETTO:+0100
TZOFFSETFROM:+0100
END:STANDARD
END:VTIMEZONE
END:VCALENDAR
