BEGIN:VCALENDAR
PRODID:-//eluceo/ical//2.0/EN
VERSION:2.0
CALSCALE:GREGORIAN
BEGIN:VEVENT
UID:5ea86261c7f01d3f377a806ed7b4c79f
DTSTAMP:20260420T114035Z
SUMMARY:Lustrum-Aperitiefconcert met pianiste-sopraanzangeres Astrid Stockm
 an
DESCRIPTION:Conférencier(s): Noteer ook :  KotK vanaf 12 t.e.m. 15 septem
 ber !
URL:https://beveren-waas.rotary2130.org/fr/agenda/show/68753
DTSTART;TZID=Europe/Zurich:20240602T100000
DTEND;TZID=Europe/Zurich:20240602T130000
LOCATION:De Casino _ concertzaal\, Stationstraat 104\, 9100 Sint-Niklaas\, 
 Belgium
CATEGORIES:Rotary
END:VEVENT
BEGIN:VTIMEZONE
TZID:Europe/Zurich
BEGIN:DAYLIGHT
DTSTART:20240602T100000
TZNAME:CEST
TZOFFSETTO:+0200
TZOFFSETFROM:+0200
END:DAYLIGHT
END:VTIMEZONE
END:VCALENDAR
