BEGIN:VCALENDAR
PRODID:-//eluceo/ical//2.0/EN
VERSION:2.0
CALSCALE:GREGORIAN
BEGIN:VEVENT
UID:d8f94d2e2520eda6afe2e2c0d378c96e
DTSTAMP:20260422T174749Z
SUMMARY:KinderKansenFonds - fundraiser - diner met optreden komiek David Ga
 lle
DESCRIPTION:Site internet: http://www.salonsdevrede.be/
URL:https://gistel.rotary2130.org/fr/agenda/show/68715
DTSTART;TZID=Europe/Zurich:20240320T183000
DTEND;TZID=Europe/Zurich:20240320T230000
LOCATION:Salons De Vrede (Ichtegem)\, Moerdijkstraat 94\, 8480 Ichtegem
CATEGORIES:Rotary
END:VEVENT
BEGIN:VTIMEZONE
TZID:Europe/Zurich
BEGIN:STANDARD
DTSTART:20240320T183000
TZNAME:CET
TZOFFSETTO:+0100
TZOFFSETFROM:+0100
END:STANDARD
END:VTIMEZONE
END:VCALENDAR
