BEGIN:VCALENDAR
PRODID:-//eluceo/ical//2.0/EN
VERSION:2.0
CALSCALE:GREGORIAN
BEGIN:VEVENT
UID:0973b87351be3f62111cb8a391cee1ab
DTSTAMP:20260422T161136Z
SUMMARY:RC Izegem - Ozark Henry met symfonisch orkest - viering 50 jaar bes
 taan
DESCRIPTION:
URL:https://gistel.rotary2130.org/fr/agenda/show/63285
DTSTART;TZID=Europe/Zurich:20240307T200000
DTEND;TZID=Europe/Zurich:20240307T223000
LOCATION:Concertgebouw Brugge
CATEGORIES:Rotary
END:VEVENT
BEGIN:VTIMEZONE
TZID:Europe/Zurich
BEGIN:STANDARD
DTSTART:20240307T200000
TZNAME:CET
TZOFFSETTO:+0100
TZOFFSETFROM:+0100
END:STANDARD
END:VTIMEZONE
END:VCALENDAR
