BEGIN:VCALENDAR
PRODID:-//eluceo/ical//2.0/EN
VERSION:2.0
CALSCALE:GREGORIAN
BEGIN:VEVENT
UID:82ccaeab44674fee0716854d80aa5ca9
DTSTAMP:20260423T032354Z
SUMMARY:Bloedgeef actie
DESCRIPTION:
URL:https://brugge-t-vrije.rotary2130.org/fr/agenda/show/55953
DTSTART;TZID=Europe/Zurich:20230322T160000
DTEND;TZID=Europe/Zurich:20230322T160000
LOCATION:Rode Kruis Stationsplein Brugge & Ottentic
CATEGORIES:Rotary
END:VEVENT
BEGIN:VTIMEZONE
TZID:Europe/Zurich
BEGIN:STANDARD
DTSTART:20230322T160000
TZNAME:CET
TZOFFSETTO:+0100
TZOFFSETFROM:+0100
END:STANDARD
END:VTIMEZONE
END:VCALENDAR
