BEGIN:VCALENDAR
PRODID:-//eluceo/ical//2.0/EN
VERSION:2.0
CALSCALE:GREGORIAN
BEGIN:VEVENT
UID:ffa278748ec45940e7d14426e76496ac
DTSTAMP:20260423T045516Z
SUMMARY:Beisbroekbosloop 2022
DESCRIPTION:Site internet: https://www.beisbroekbosloop.be/
URL:https://brugge-t-vrije.rotary2130.org/fr/agenda/show/46129
DTSTART;TZID=Europe/Zurich:20220925T090000
DTEND;TZID=Europe/Zurich:20220925T130000
LOCATION:Beisbroek Bos\, Het Anker\, Beisbroekdreef 12\, 8200 St. Andries 
 – Brugge
CATEGORIES:Rotary
END:VEVENT
BEGIN:VTIMEZONE
TZID:Europe/Zurich
BEGIN:DAYLIGHT
DTSTART:20220925T090000
TZNAME:CEST
TZOFFSETTO:+0200
TZOFFSETFROM:+0200
END:DAYLIGHT
END:VTIMEZONE
END:VCALENDAR
