BEGIN:VCALENDAR
PRODID:-//eluceo/ical//2.0/EN
VERSION:2.0
CALSCALE:GREGORIAN
BEGIN:VEVENT
UID:fec6eb03bb1a4017c81acc0a7bf56b1c
DTSTAMP:20260421T140852Z
SUMMARY:Les scènes de genre de Vermeer et des peintres du siècle d'or hol
 landais XVIIe siècle
DESCRIPTION:Speaker(s): Henry de Groeve
URL:https://lessines.rotary2150.org/en/agenda/show/96140
DTSTART;TZID=Europe/Zurich:20260330T183000
DTEND;TZID=Europe/Zurich:20260330T223000
LOCATION:Théâtre Jean Claude DROUOT\, Rue des 4 Fils Aymon\, 21\, 7860 Le
 ssines
CATEGORIES:Rotary
END:VEVENT
BEGIN:VTIMEZONE
TZID:Europe/Zurich
BEGIN:DAYLIGHT
DTSTART:20260330T183000
TZNAME:CEST
TZOFFSETTO:+0200
TZOFFSETFROM:+0200
END:DAYLIGHT
END:VTIMEZONE
END:VCALENDAR
