BEGIN:VCALENDAR
PRODID:-//eluceo/ical//2.0/EN
VERSION:2.0
CALSCALE:GREGORIAN
BEGIN:VEVENT
UID:cf5025ce74bd59b4f2f8c05057d836d2
DTSTAMP:20260421T185613Z
SUMMARY:Rencontre avec des associations lessinoises
DESCRIPTION:
URL:https://lessines.rotary2150.org/en/agenda/show/95100
DTSTART;TZID=Europe/Zurich:20260209T193000
DTEND;TZID=Europe/Zurich:20260209T223000
LOCATION:Salle de l’Écuelle\, Rue des 4 Fils Aymon\, 21\, 7860 Lessines
CATEGORIES:Rotary
END:VEVENT
BEGIN:VTIMEZONE
TZID:Europe/Zurich
BEGIN:STANDARD
DTSTART:20260209T193000
TZNAME:CET
TZOFFSETTO:+0100
TZOFFSETFROM:+0100
END:STANDARD
END:VTIMEZONE
END:VCALENDAR
