BEGIN:VCALENDAR
PRODID:-//eluceo/ical//2.0/EN
VERSION:2.0
CALSCALE:GREGORIAN
BEGIN:VEVENT
UID:996e04b596eea7c5d538a315c9c3b289
DTSTAMP:20260421T153552Z
SUMMARY:BROCANTE VIDE GRENIER UNICEF ATH
DESCRIPTION:Speaker(s): Sous le haut patronage de la ville d'Ath en collabo
 ration avec le rotary club de Lessines et les Scouts de Lessines HD022
URL:https://lessines.rotary2150.org/en/agenda/show/94416
DTSTART;TZID=Europe/Zurich:20260308T090000
DTEND;TZID=Europe/Zurich:20260308T180000
LOCATION:Hall du CEVA rue des Primevères ATH
CATEGORIES:Rotary
END:VEVENT
BEGIN:VTIMEZONE
TZID:Europe/Zurich
BEGIN:STANDARD
DTSTART:20260308T090000
TZNAME:CET
TZOFFSETTO:+0100
TZOFFSETFROM:+0100
END:STANDARD
END:VTIMEZONE
END:VCALENDAR
