BEGIN:VCALENDAR
PRODID:-//eluceo/ical//2.0/EN
VERSION:2.0
CALSCALE:GREGORIAN
BEGIN:VEVENT
UID:5d10aff68f5cd39adc68da6f34b81437
DTSTAMP:20260421T203324Z
SUMMARY:CONCERT DU NOUVEL AN
DESCRIPTION:Website: https://www.facebook.com/events/s/concert-de-nouvel-an
 -jb-band-r/805470675737407/\nSpeaker(s): 
URL:https://lessines.rotary2150.org/en/agenda/show/90580
DTSTART;TZID=Europe/Zurich:20260124T193000
DTEND;TZID=Europe/Zurich:20260124T223000
LOCATION:Théâtre Jean Claude DROUOT
CATEGORIES:Rotary
END:VEVENT
BEGIN:VTIMEZONE
TZID:Europe/Zurich
BEGIN:STANDARD
DTSTART:20260124T193000
TZNAME:CET
TZOFFSETTO:+0100
TZOFFSETFROM:+0100
END:STANDARD
END:VTIMEZONE
END:VCALENDAR
