BEGIN:VCALENDAR
PRODID:-//eluceo/ical//2.0/EN
VERSION:2.0
CALSCALE:GREGORIAN
BEGIN:VEVENT
UID:cdfe222d0924d9759d833f070f5b8d8c
DTSTAMP:20260426T040010Z
SUMMARY:Guest Speaker: Patrick Lesage\, Founder and CEO\, TAKANEO
DESCRIPTION:Website: https://www.hotel-leplacedarmes.com/\nSpeaker(s): Patr
 ick Lesage\, Founder and CEOTakaneo
URL:https://luxembourg-hearts.rotary2160.org/en/agenda/show/79773
DTSTART;TZID=Europe/Zurich:20250326T190000
DTEND;TZID=Europe/Zurich:20250326T210000
LOCATION:Hotel Le Place d'Armes\, 18 Pl. d'Armes\, 1136 Ville-Haute Luxembo
 urg\, Luxembourg
CATEGORIES:Rotary
END:VEVENT
BEGIN:VTIMEZONE
TZID:Europe/Zurich
BEGIN:STANDARD
DTSTART:20250326T190000
TZNAME:CET
TZOFFSETTO:+0100
TZOFFSETFROM:+0100
END:STANDARD
END:VTIMEZONE
END:VCALENDAR
