BEGIN:VCALENDAR
PRODID:-//eluceo/ical//2.0/EN
VERSION:2.0
CALSCALE:GREGORIAN
BEGIN:VEVENT
UID:478c4ac3c531c18f12e5e129556fff5a
DTSTAMP:20260419T172222Z
SUMMARY:Light! Camera! Action !
DESCRIPTION:Filmregisseur Jan Verheyen komt op uitnodiging van Rotary Brake
 l-Zwalmvallei vrijdagavond 23 maart langs met de voorstelling ‘Lights! C
 amera! Action!’ Daarin haspelt Verheyen in 100 minuten door de geschiede
 nis van 100 jaar film.\nSpeaker(s): Jan Verheyen en Marijn De Valck
URL:https://brakel-zwalmvallei.rotary2130.org/en/agenda/show/17910
DTSTART;TZID=Europe/Zurich:20180323T200000
DTEND;TZID=Europe/Zurich:20180323T235900
LOCATION:O.C. De Lier\, Nieuwstraat 21 in Lierde
CATEGORIES:Rotary
END:VEVENT
BEGIN:VTIMEZONE
TZID:Europe/Zurich
BEGIN:STANDARD
DTSTART:20180323T200000
TZNAME:CET
TZOFFSETTO:+0100
TZOFFSETFROM:+0100
END:STANDARD
END:VTIMEZONE
END:VCALENDAR
