BEGIN:VCALENDAR
PRODID:-//eluceo/ical//2.0/EN
VERSION:2.0
CALSCALE:GREGORIAN
BEGIN:VEVENT
UID:5cdee74d1e6e97d197db85717191abb5
DTSTAMP:20260419T190030Z
SUMMARY:Wijndegustatie A TASTE 4 WINE
DESCRIPTION:Rotary Club Brakel-Zwalmvallei laat u zorgvuldig uitgekozen wij
 nen proeven uit diverse landen. Samen met kleine foodpairing om het geheel
  af te werken. Er is mogelijkheid tot aankoop van de wijnen op het event z
 elf.\n\nDE OPBRENGST IS TEN VOORDELE VAN STICHTING PELICANO!\n\nDit alles 
 gaat door in de accommodatie van Wijnhandel Van Hende op de Provinciebaan 
 108 in Gavere. U bent welkom op zaterdag 7 okt. van 17u tot 22u en zondag 
 8 okt. van 11u tot 17u.\n\nKAARTEN TE VERKRIJGEN BIJ ALLE LEDEN AAN 15€\
 nSpeaker(s): Proef en ontdek zorgvuldig uitgekozen wijnen uit diverse land
 en.\nGelegenheid tot aankoop en foodpairing.
URL:https://brakel-zwalmvallei.rotary2130.org/en/agenda/show/14544
DTSTART;TZID=Europe/Zurich:20171007T170000
DTEND;TZID=Europe/Zurich:20171008T170000
LOCATION:Wijnhandel Van Hende
CATEGORIES:Rotary
END:VEVENT
BEGIN:VTIMEZONE
TZID:Europe/Zurich
BEGIN:DAYLIGHT
DTSTART:20171007T170000
TZNAME:CEST
TZOFFSETTO:+0200
TZOFFSETFROM:+0200
END:DAYLIGHT
END:VTIMEZONE
END:VCALENDAR
